BEGIN:VCALENDAR
VERSION:2.0
PRODID:-//Plone.org//NONSGML plone.app.event//EN
X-WR-TIMEZONE:Europe/Madrid
BEGIN:VEVENT
SUMMARY:Sessió de Ball Country
DTSTART;TZID=Europe/Madrid;VALUE=DATE-TIME:20100513T190000
DTEND;TZID=Europe/Madrid;VALUE=DATE-TIME:20100513T200000
DTSTAMP;VALUE=DATE-TIME:20260424T063421Z
UID:1c13614bbe83bee57600bb0a8f11fd5f
CREATED;VALUE=DATE-TIME:20100513T000000Z
CATEGORIES:Dansa
LOCATION:Ateneu Arenyenc
COMMENT:Durada: 20:15
DESCRIPTION:Ball Country del Banc del Temps a l'Ateneu
URL:https://arenysdemar.cat/document.php?id=21662
END:VEVENT
END:VCALENDAR