BEGIN:VCALENDAR
VERSION:2.0
PRODID:-//Plone.org//NONSGML plone.app.event//EN
X-WR-TIMEZONE:Europe/Madrid
BEGIN:VEVENT
SUMMARY:Torneig 24 hores de Futbol Sala
DTSTART;TZID=Europe/Madrid;VALUE=DATE-TIME:20100625T200000
DTEND;TZID=Europe/Madrid;VALUE=DATE-TIME:20100625T210000
DTSTAMP;VALUE=DATE-TIME:20260422T010739Z
UID:d6a72f3a7badcebae0a21f5b293e62d9
CREATED;VALUE=DATE-TIME:20100625T000000Z
CATEGORIES:Esports
LOCATION:CE Fondo de les Creus - Fondo de les Creus, s/n
ORGANIZER:Futsal Arenys de Mar i Regidoria d'Esports
COMMENT:Durada: 26 de juny a les 22 hores
DESCRIPTION:25 i 26 de juny les 24 hores de futbol sala en el Complex Esportiu Municipal Fondo de les Creus.
URL:https://arenysdemar.cat/document.php?id=21665
END:VEVENT
END:VCALENDAR