BEGIN:VCALENDAR
VERSION:2.0
PRODID:-//Plone.org//NONSGML plone.app.event//EN
X-WR-TIMEZONE:Europe/Madrid
BEGIN:VEVENT
SUMMARY:Torneig Futbol Base Cesc Fàbregas
DTSTART;TZID=Europe/Madrid;VALUE=DATE-TIME:20100605T090000
DTEND;TZID=Europe/Madrid;VALUE=DATE-TIME:20100605T100000
DTSTAMP;VALUE=DATE-TIME:20260423T132909Z
UID:47d5fd239b4a77b35877e872a5912309
CREATED;VALUE=DATE-TIME:20100605T000000Z
CATEGORIES:Esports
LOCATION:Camp de Futbol - Rial de sa Clavella, s/n
ORGANIZER:Club de Futbol Arenys de Mar i Ajuntament d'Arenys de Mar
COMMENT:Durada: Fins al dia 6 de juny
URL:https://arenysdemar.cat/document.php?id=21671
END:VEVENT
END:VCALENDAR