BEGIN:VCALENDAR
VERSION:2.0
PRODID:-//Plone.org//NONSGML plone.app.event//EN
X-WR-TIMEZONE:Europe/Madrid
BEGIN:VEVENT
SUMMARY:Festa al carrer del Tossol
DTSTART;TZID=Europe/Madrid;VALUE=DATE-TIME:20100612T170000
DTEND;TZID=Europe/Madrid;VALUE=DATE-TIME:20100612T180000
DTSTAMP;VALUE=DATE-TIME:20260424T043409Z
UID:4936bc11a03a6db1def516ced407a065
CREATED;VALUE=DATE-TIME:20100612T000000Z
CATEGORIES:Festa
LOCATION:Carrer del Tossol
ORGANIZER:Associació de Veïns del carrer Tossol
URL:https://arenysdemar.cat/document.php?id=21692
END:VEVENT
END:VCALENDAR