BEGIN:VCALENDAR
VERSION:2.0
PRODID:-//Plone.org//NONSGML plone.app.event//EN
X-WR-TIMEZONE:Europe/Madrid
BEGIN:VEVENT
SUMMARY:Ball popular
DTSTART;TZID=Europe/Madrid;VALUE=DATE-TIME:20100814T235500
DTEND;TZID=Europe/Madrid;VALUE=DATE-TIME:20100815T005500
DTSTAMP;VALUE=DATE-TIME:20260423T211056Z
UID:d5901b142b9d0415c0e13b1ab5e32489
CREATED;VALUE=DATE-TIME:20100814T000000Z
CATEGORIES:Música
LOCATION:Zona d'aparcament Platja Picòrdia
ORGANIZER:Regidoria de Cultura
DESCRIPTION:amb la Salseta del Poble Sec
URL:https://arenysdemar.cat/document.php?id=21704
END:VEVENT
END:VCALENDAR