BEGIN:VCALENDAR
VERSION:2.0
PRODID:-//Plone.org//NONSGML plone.app.event//EN
X-WR-TIMEZONE:Europe/Madrid
BEGIN:VEVENT
SUMMARY:Concurs de crits
DTSTART;TZID=Europe/Madrid;VALUE=DATE-TIME:20100814T200000
DTEND;TZID=Europe/Madrid;VALUE=DATE-TIME:20100814T210000
DTSTAMP;VALUE=DATE-TIME:20260423T103054Z
UID:0c02c9ad5830be179ceec8958afb39d8
CREATED;VALUE=DATE-TIME:20100814T000000Z
CATEGORIES:Festa
LOCATION:Pati de l'edifici Xifré
ORGANIZER:Festival de Contes i Regidoria de Cultura
DESCRIPTION:Vine i crida amb nosaltres!
URL:https://arenysdemar.cat/document.php?id=21705
END:VEVENT
END:VCALENDAR