BEGIN:VCALENDAR
VERSION:2.0
PRODID:-//Plone.org//NONSGML plone.app.event//EN
X-WR-TIMEZONE:Europe/Madrid
BEGIN:VEVENT
SUMMARY:Festa de fi de curs: 30 anys de l'Institut
DTSTART;TZID=Europe/Madrid;VALUE=DATE-TIME:20100619T180000
DTEND;TZID=Europe/Madrid;VALUE=DATE-TIME:20100619T190000
DTSTAMP;VALUE=DATE-TIME:20260423T121719Z
UID:6ddf7f54425bf9293638b9d6e3c45ce3
CREATED;VALUE=DATE-TIME:20100619T000000Z
CATEGORIES:Festa
LOCATION:Patis Institut Tres Turons
ORGANIZER:Institut i Ampa
DESCRIPTION:Festa de cloenda dels actes dels 30 anys de l'IES Tres Turons.
URL:https://arenysdemar.cat/document.php?id=21796
END:VEVENT
END:VCALENDAR