BEGIN:VCALENDAR
VERSION:2.0
PRODID:-//Plone.org//NONSGML plone.app.event//EN
X-WR-TIMEZONE:Europe/Madrid
BEGIN:VEVENT
SUMMARY:Hora del conte i taller: Aventurers de pèl i ploma
DTSTART;TZID=Europe/Madrid;VALUE=DATE-TIME:20100729T183000
DTEND;TZID=Europe/Madrid;VALUE=DATE-TIME:20100729T193000
DTSTAMP;VALUE=DATE-TIME:20260423T212648Z
UID:d98c185f9473d5c3e028529c18dba518
CREATED;VALUE=DATE-TIME:20100729T000000Z
CATEGORIES:Infantils
LOCATION:Biblioplatja - Platja de la Picòrdia
ORGANIZER:Biblioteca-Regidoria de Cultura
DESCRIPTION:a càrrec de Mª Mercè Rubí
URL:https://arenysdemar.cat/document.php?id=21801
END:VEVENT
END:VCALENDAR