BEGIN:VCALENDAR
VERSION:2.0
PRODID:-//Plone.org//NONSGML plone.app.event//EN
X-WR-TIMEZONE:Europe/Madrid
BEGIN:VEVENT
SUMMARY:Concert barrakes 10 anys: La Bundu Band
DTSTART;TZID=Europe/Madrid;VALUE=DATE-TIME:20100709T013000
DTEND;TZID=Europe/Madrid;VALUE=DATE-TIME:20100709T023000
DTSTAMP;VALUE=DATE-TIME:20260424T001648Z
UID:cf336746ee159382aab3c138f8001c71
CREATED;VALUE=DATE-TIME:20100709T000000Z
CATEGORIES:Festa
LOCATION:Plaça de l'Església - Plaça de l'Església
ORGANIZER:Consell de Joves i Regidoria d'Infància i Joventut
COMMENT:Preu: Gratuït
DESCRIPTION:a càrrec del consell de joves d'Arenys de Mar
URL:https://arenysdemar.cat/document.php?id=21808
END:VEVENT
END:VCALENDAR