BEGIN:VCALENDAR
VERSION:2.0
PRODID:-//Plone.org//NONSGML plone.app.event//EN
X-WR-TIMEZONE:Europe/Madrid
BEGIN:VEVENT
SUMMARY:Arenys de contes: Penjant d'un fil
DTSTART;TZID=Europe/Madrid;VALUE=DATE-TIME:20100811T220000
DTEND;TZID=Europe/Madrid;VALUE=DATE-TIME:20100811T230000
DTSTAMP;VALUE=DATE-TIME:20260423T111724Z
UID:4bd9a182871d8625617e4388d4759388
CREATED;VALUE=DATE-TIME:20100811T000000Z
CATEGORIES:Literatura
LOCATION:Biblioplatja - Platja de la Picòrdia
ORGANIZER:Biblioteca-Regidoria de Cultura
DESCRIPTION:a càrrec d'UllDistret
URL:https://arenysdemar.cat/document.php?id=21849
END:VEVENT
END:VCALENDAR