BEGIN:VCALENDAR
VERSION:2.0
PRODID:-//Plone.org//NONSGML plone.app.event//EN
X-WR-TIMEZONE:Europe/Madrid
BEGIN:VEVENT
SUMMARY:Arenys de contes: Cajón desastre
DTSTART;TZID=Europe/Madrid;VALUE=DATE-TIME:20100818T220000
DTEND;TZID=Europe/Madrid;VALUE=DATE-TIME:20100818T230000
DTSTAMP;VALUE=DATE-TIME:20260423T150845Z
UID:b143747d90fd392b5c4b53917483be4a
CREATED;VALUE=DATE-TIME:20100818T000000Z
CATEGORIES:Literatura
LOCATION:Biblioplatja - Platja de la Picòrdia
ORGANIZER:Biblioteca-Regidoria de Cultura
DESCRIPTION:A càrrec de Carlos Sáez
URL:https://arenysdemar.cat/document.php?id=21850
END:VEVENT
END:VCALENDAR