BEGIN:VCALENDAR
VERSION:2.0
PRODID:-//Plone.org//NONSGML plone.app.event//EN
X-WR-TIMEZONE:Europe/Madrid
BEGIN:VEVENT
SUMMARY:Arenys de contes: Sessió dedicada a Salvador Espriu
DTSTART;TZID=Europe/Madrid;VALUE=DATE-TIME:20100825T220000
DTEND;TZID=Europe/Madrid;VALUE=DATE-TIME:20100825T230000
DTSTAMP;VALUE=DATE-TIME:20260420T152610Z
UID:31549ea495b53a7128a01084dd626e75
CREATED;VALUE=DATE-TIME:20100825T000000Z
CATEGORIES:Literatura
LOCATION:Biblioplatja - Platja de la Picòrdia
ORGANIZER:Biblioteca-Regidoria de Cultura
DESCRIPTION:A càrrec de Carles Alcoy i d'Albert Estengre
URL:https://arenysdemar.cat/document.php?id=21851
END:VEVENT
END:VCALENDAR