BEGIN:VCALENDAR
VERSION:2.0
PRODID:-//Plone.org//NONSGML plone.app.event//EN
X-WR-TIMEZONE:Europe/Madrid
BEGIN:VEVENT
SUMMARY:Taller d'estels
DTSTART;TZID=Europe/Madrid;VALUE=DATE-TIME:20100814T110000
DTEND;TZID=Europe/Madrid;VALUE=DATE-TIME:20100814T120000
DTSTAMP;VALUE=DATE-TIME:20260423T193930Z
UID:b0ced6b966b2c753e63f5d0bef57cb28
CREATED;VALUE=DATE-TIME:20100814T000000Z
CATEGORIES:Infantils
LOCATION:Biblioplatja - Platja de la Picòrdia
ORGANIZER:Biblioteca-Regidoria de Cultura
DESCRIPTION:a càrrec de Francesc Bertran
URL:https://arenysdemar.cat/document.php?id=21859
END:VEVENT
END:VCALENDAR