BEGIN:VCALENDAR
VERSION:2.0
PRODID:-//Plone.org//NONSGML plone.app.event//EN
X-WR-TIMEZONE:Europe/Madrid
BEGIN:VEVENT
SUMMARY:Hora del conte i taller: Petons de drac
DTSTART;TZID=Europe/Madrid;VALUE=DATE-TIME:20100819T183000
DTEND;TZID=Europe/Madrid;VALUE=DATE-TIME:20100819T193000
DTSTAMP;VALUE=DATE-TIME:20260424T144933Z
UID:aa6f90e63830d533e4c38b4fde31fac9
CREATED;VALUE=DATE-TIME:20100819T000000Z
CATEGORIES:Infantils
LOCATION:Biblioplatja - Platja de la Picòrdia
ORGANIZER:Biblioteca-Regidoria de Cultura
DESCRIPTION:a càrrec de Mon Mas
URL:https://arenysdemar.cat/document.php?id=21868
END:VEVENT
END:VCALENDAR