BEGIN:VCALENDAR
VERSION:2.0
PRODID:-//Plone.org//NONSGML plone.app.event//EN
X-WR-TIMEZONE:Europe/Madrid
BEGIN:VEVENT
SUMMARY:Teatre infantil: Els pirates de la platja
DTSTART;TZID=Europe/Madrid;VALUE=DATE-TIME:20100718T110000
DTEND;TZID=Europe/Madrid;VALUE=DATE-TIME:20100718T120000
DTSTAMP;VALUE=DATE-TIME:20260420T170512Z
UID:b44f9dbb448b0be23a3cc64e35f5b62a
CREATED;VALUE=DATE-TIME:20100718T000000Z
CATEGORIES:Infantils
LOCATION:Platja del Cavaió - Rial de la Serp
ORGANIZER:Ajuntament d'Arenys de Mar i Diputació de Barcelona
URL:https://arenysdemar.cat/document.php?id=21873
END:VEVENT
END:VCALENDAR