BEGIN:VCALENDAR
VERSION:2.0
PRODID:-//Plone.org//NONSGML plone.app.event//EN
X-WR-TIMEZONE:Europe/Madrid
BEGIN:VEVENT
SUMMARY:27a Pedalejada Popular
DTSTART;TZID=Europe/Madrid;VALUE=DATE-TIME:20100815T080000
DTEND;TZID=Europe/Madrid;VALUE=DATE-TIME:20100815T090000
DTSTAMP;VALUE=DATE-TIME:20260423T210754Z
UID:985ae06bbd0f32133e4e5f653f03dec7
CREATED;VALUE=DATE-TIME:20100815T000000Z
CATEGORIES:Esports
LOCATION:Riera, davant del C.C.Calisay
ORGANIZER:UBICA
URL:https://arenysdemar.cat/document.php?id=21889
END:VEVENT
END:VCALENDAR