BEGIN:VCALENDAR
VERSION:2.0
PRODID:-//Plone.org//NONSGML plone.app.event//EN
X-WR-TIMEZONE:Europe/Madrid
BEGIN:VEVENT
SUMMARY:Passejada per la platja per aprendre com mantenir net el nostre mar
DTSTART;TZID=Europe/Madrid;VALUE=DATE-TIME:20100811T190000
DTEND;TZID=Europe/Madrid;VALUE=DATE-TIME:20100811T200000
DTSTAMP;VALUE=DATE-TIME:20260421T011517Z
UID:635061aedee17c34f26498ead4280d62
CREATED;VALUE=DATE-TIME:20100811T000000Z
CATEGORIES:Mostra
LOCATION:Biblioplatja - Platja de la Picòrdia
ORGANIZER:Biblioteca-Regidoria de Cultura i Acciónatura
URL:https://arenysdemar.cat/document.php?id=21896
END:VEVENT
END:VCALENDAR