BEGIN:VCALENDAR
VERSION:2.0
PRODID:-//Plone.org//NONSGML plone.app.event//EN
X-WR-TIMEZONE:Europe/Madrid
BEGIN:VEVENT
SUMMARY:Passejada per la platja per aprendre com mantenir net el nostre mar
DTSTART;TZID=Europe/Madrid;VALUE=DATE-TIME:20100825T100000
DTEND;TZID=Europe/Madrid;VALUE=DATE-TIME:20100825T110000
DTSTAMP;VALUE=DATE-TIME:20260424T005514Z
UID:6ee0af56bf0f84e8276fc7120ca374fd
CREATED;VALUE=DATE-TIME:20100825T000000Z
LOCATION:Biblioplatja - Platja de la Picòrdia
ORGANIZER:Biblioteca-Regidoria de Cultura i Acciónatura
URL:https://arenysdemar.cat/document.php?id=21898
END:VEVENT
END:VCALENDAR