BEGIN:VCALENDAR
VERSION:2.0
PRODID:-//Plone.org//NONSGML plone.app.event//EN
X-WR-TIMEZONE:Europe/Madrid
BEGIN:VEVENT
SUMMARY:La pesta arriba a Santa Maria d'Arenys!
DTSTART;TZID=Europe/Madrid;VALUE=DATE-TIME:20100815T213000
DTEND;TZID=Europe/Madrid;VALUE=DATE-TIME:20100815T223000
DTSTAMP;VALUE=DATE-TIME:20260423T175058Z
UID:efb58a2234ecfb9e99047c61508a3873
CREATED;VALUE=DATE-TIME:20100815T000000Z
CATEGORIES:Dansa,Festa,Música,Teatre
LOCATION:Inici a la Plaça del Mercat
ORGANIZER:Patronat de Sant Roc i Amics del Patrimoni Cultural d'Arenys de Mar
DESCRIPTION:Un recorregut a la darreria del segle XVI.
URL:https://arenysdemar.cat/document.php?id=21901
END:VEVENT
END:VCALENDAR