BEGIN:VCALENDAR
VERSION:2.0
PRODID:-//Plone.org//NONSGML plone.app.event//EN
X-WR-TIMEZONE:Europe/Madrid
BEGIN:VEVENT
SUMMARY:Elecció de la Pubilla i l'Hereu d'Arenys de Mar 2010      ACTE SUSPÈS PER L'ORGANITZACIÓ
DTSTART;TZID=Europe/Madrid;VALUE=DATE-TIME:20100821T193000
DTEND;TZID=Europe/Madrid;VALUE=DATE-TIME:20100821T203000
DTSTAMP;VALUE=DATE-TIME:20260424T013602Z
UID:28cc5eb55c11cdbd91d40f8e21c7fca8
CREATED;VALUE=DATE-TIME:20100821T000000Z
CATEGORIES:Mostra
LOCATION:Pati de l'edifici Xifré
ORGANIZER:Agrupació de Pubilles i Hereus d'Arenys de Mar
DESCRIPTION:amb la Cobla Mediterrània
URL:https://arenysdemar.cat/document.php?id=21919
END:VEVENT
END:VCALENDAR