BEGIN:VCALENDAR
VERSION:2.0
PRODID:-//Plone.org//NONSGML plone.app.event//EN
X-WR-TIMEZONE:Europe/Madrid
BEGIN:VEVENT
SUMMARY:Teatre infantil: Rita, la rínxols i els tres óssos
DTSTART;TZID=Europe/Madrid;VALUE=DATE-TIME:20100926T180000
DTEND;TZID=Europe/Madrid;VALUE=DATE-TIME:20100926T190000
DTSTAMP;VALUE=DATE-TIME:20260424T054543Z
UID:b1ae710b913bc151f156bbbf80af0f24
CREATED;VALUE=DATE-TIME:20100926T000000Z
CATEGORIES:Infantils
LOCATION:Teatre Principal - C. Església, 45-47
ORGANIZER:S.C. L'Esperança i Regidoria de Cultura
DESCRIPTION:A càrrec de Binixiflat Teatre (25è Aniversari)
URL:https://arenysdemar.cat/document.php?id=21922
END:VEVENT
END:VCALENDAR