BEGIN:VCALENDAR
VERSION:2.0
PRODID:-//Plone.org//NONSGML plone.app.event//EN
X-WR-TIMEZONE:Europe/Madrid
BEGIN:VEVENT
SUMMARY:Teatre infantil: El gegant sempre té gana
DTSTART;TZID=Europe/Madrid;VALUE=DATE-TIME:20100919T180000
DTEND;TZID=Europe/Madrid;VALUE=DATE-TIME:20100919T190000
DTSTAMP;VALUE=DATE-TIME:20260423T210652Z
UID:61f01f04a3fe1b87fa053598bcf753dd
CREATED;VALUE=DATE-TIME:20100919T000000Z
CATEGORIES:Infantils
LOCATION:Teatre Principal - C. Església, 45-47
ORGANIZER:S.C. L'Esperança i Regidoria de Cultura
DESCRIPTION:A càrrec de Binixiflat Teatre (25è aniversari)
URL:https://arenysdemar.cat/document.php?id=21924
END:VEVENT
END:VCALENDAR