BEGIN:VCALENDAR
VERSION:2.0
PRODID:-//Plone.org//NONSGML plone.app.event//EN
X-WR-TIMEZONE:Europe/Madrid
BEGIN:VEVENT
SUMMARY:Festa del carrer Sant Ramon
DTSTART;TZID=Europe/Madrid;VALUE=DATE-TIME:20100827T000000
DTEND;TZID=Europe/Madrid;VALUE=DATE-TIME:20100827T010000
DTSTAMP;VALUE=DATE-TIME:20260423T192349Z
UID:a569c58704c7f944bdc3e594277224c5
CREATED;VALUE=DATE-TIME:20100827T000000Z
CATEGORIES:Festa
LOCATION:Carrer Sant Ramon
ORGANIZER:A.A.V.V. del carrer Sant Ramon
COMMENT:Durada: Fins dissabte 28 d'agost
DESCRIPTION:Un any més el carrer Sant Ramon està de festa!
URL:https://arenysdemar.cat/document.php?id=21932
END:VEVENT
END:VCALENDAR