BEGIN:VCALENDAR
VERSION:2.0
PRODID:-//Plone.org//NONSGML plone.app.event//EN
X-WR-TIMEZONE:Europe/Madrid
BEGIN:VEVENT
SUMMARY:Festa del carrer Sant Rafel
DTSTART;TZID=Europe/Madrid;VALUE=DATE-TIME:20100917T000000
DTEND;TZID=Europe/Madrid;VALUE=DATE-TIME:20100917T010000
DTSTAMP;VALUE=DATE-TIME:20260424T021009Z
UID:5af665e547de82ad5f7a108b40dcafcc
CREATED;VALUE=DATE-TIME:20100917T000000Z
CATEGORIES:Festa
LOCATION:Carrer Sant Rafel
ORGANIZER:A.A.V.V. del carrer Sant Rafel
COMMENT:Durada: Fins dissabte 18 de setembre
URL:https://arenysdemar.cat/document.php?id=21934
END:VEVENT
END:VCALENDAR