BEGIN:VCALENDAR
VERSION:2.0
PRODID:-//Plone.org//NONSGML plone.app.event//EN
X-WR-TIMEZONE:Europe/Madrid
BEGIN:VEVENT
SUMMARY:Vespres Digitals
DTSTART;TZID=Europe/Madrid;VALUE=DATE-TIME:20100804T193000
DTEND;TZID=Europe/Madrid;VALUE=DATE-TIME:20100804T203000
DTSTAMP;VALUE=DATE-TIME:20260423T234927Z
UID:ef506040d87af6683896c10d712d2100
CREATED;VALUE=DATE-TIME:20100804T000000Z
CATEGORIES:Conferència
LOCATION:Restaurant Sa Voga
ORGANIZER:Arenys.Org amb la col·laboració de la Regidoria de Societat de la Informació i Sa Voga
COMMENT:Preu: Gratuït
DESCRIPTION:Parlem de "marqueting 2.0" amb Josep-Lluís de Gabriel
URL:https://arenysdemar.cat/document.php?id=21971
END:VEVENT
END:VCALENDAR