BEGIN:VCALENDAR
VERSION:2.0
PRODID:-//Plone.org//NONSGML plone.app.event//EN
X-WR-TIMEZONE:Europe/Madrid
BEGIN:VEVENT
SUMMARY:Xocolatada Popular
DTSTART;TZID=Europe/Madrid;VALUE=DATE-TIME:20100903T173000
DTEND;TZID=Europe/Madrid;VALUE=DATE-TIME:20100903T183000
DTSTAMP;VALUE=DATE-TIME:20260423T224554Z
UID:9bca7e2c45f5a5bd048a7af6a6452eb6
CREATED;VALUE=DATE-TIME:20100903T000000Z
CATEGORIES:Infantils
LOCATION:Plaça de l'Església - Plaça de l'Església
ORGANIZER:AVANA
COMMENT:Preu: gratuït
Durada: fins a 2/4 de 9
DESCRIPTION:infables i xocolata amb melindros per a tothom!
URL:https://arenysdemar.cat/document.php?id=21977
END:VEVENT
END:VCALENDAR