BEGIN:VCALENDAR
VERSION:2.0
PRODID:-//Plone.org//NONSGML plone.app.event//EN
X-WR-TIMEZONE:Europe/Madrid
BEGIN:VEVENT
SUMMARY:Marató de contes de por
DTSTART;TZID=Europe/Madrid;VALUE=DATE-TIME:20101031T220000
DTEND;TZID=Europe/Madrid;VALUE=DATE-TIME:20101031T230000
DTSTAMP;VALUE=DATE-TIME:20260422T150121Z
UID:0fa2e18dcf55c9dbbd394a22596d59c8
CREATED;VALUE=DATE-TIME:20101031T000000Z
CATEGORIES:Teatre
LOCATION:Teatre Principal - C. Església, 45-47
ORGANIZER:SC L'Esperança i Regidoria de Cultura
COMMENT:Preu: 7 &euro;
DESCRIPTION:A càrrec de l'Associació de Narradors Professionals
URL:https://arenysdemar.cat/document.php?id=22021
END:VEVENT
END:VCALENDAR