BEGIN:VCALENDAR
VERSION:2.0
PRODID:-//Plone.org//NONSGML plone.app.event//EN
X-WR-TIMEZONE:Europe/Madrid
BEGIN:VEVENT
SUMMARY:Circ: Can Resmés
DTSTART;TZID=Europe/Madrid;VALUE=DATE-TIME:20101106T180000
DTEND;TZID=Europe/Madrid;VALUE=DATE-TIME:20101106T190000
DTSTAMP;VALUE=DATE-TIME:20260421T090618Z
UID:523b372c7ec57d7038e0c03a20d0adf8
CREATED;VALUE=DATE-TIME:20101106T000000Z
CATEGORIES:Infantils
LOCATION:Teatre Principal - C. Església, 45-47
ORGANIZER:SC L'Esperança i Regidoria de Cultura
COMMENT:Preu: 5 &euro;
DESCRIPTION:A càrrec de la Cia. El Circ Petit
URL:https://arenysdemar.cat/document.php?id=22025
END:VEVENT
END:VCALENDAR