BEGIN:VCALENDAR
VERSION:2.0
PRODID:-//Plone.org//NONSGML plone.app.event//EN
X-WR-TIMEZONE:Europe/Madrid
BEGIN:VEVENT
SUMMARY:Teatre: No et vesteixis per sopar
DTSTART;TZID=Europe/Madrid;VALUE=DATE-TIME:20101113T220000
DTEND;TZID=Europe/Madrid;VALUE=DATE-TIME:20101113T230000
DTSTAMP;VALUE=DATE-TIME:20260421T085940Z
UID:5b529e5dd4d21519ebe6f05d61b42653
CREATED;VALUE=DATE-TIME:20101113T000000Z
CATEGORIES:Teatre
LOCATION:Teatre Principal - C. Església, 45-47
ORGANIZER:SC L'Esperança i Regidoria de Cultura
COMMENT:Preu: 7 &euro;. També el 14 de novembre a les 19 h
DESCRIPTION:A càrrec de la Cia. de Teatre del Centre de Canet de Mar
URL:https://arenysdemar.cat/document.php?id=22027
END:VEVENT
END:VCALENDAR