BEGIN:VCALENDAR
VERSION:2.0
PRODID:-//Plone.org//NONSGML plone.app.event//EN
X-WR-TIMEZONE:Europe/Madrid
BEGIN:VEVENT
SUMMARY:Presentació del llibre:Entre la vinya i el comerç. Els orígens de l'expansió econòmica del Maresme a l'època moderna
DTSTART;TZID=Europe/Madrid;VALUE=DATE-TIME:20101016T190000
DTEND;TZID=Europe/Madrid;VALUE=DATE-TIME:20101016T200000
DTSTAMP;VALUE=DATE-TIME:20260422T021437Z
UID:2f170c6310adca6a3fbf9a83bb2200e1
CREATED;VALUE=DATE-TIME:20101016T000000Z
CATEGORIES:Literatura
LOCATION:Sala d'actes de la Biblioteca - C. Bonaire, 2
ORGANIZER:Biblioteca-Regidoria de Cultura
DESCRIPTION:d'Alexandra Capdevila Muntadas, historiadora.
URL:https://arenysdemar.cat/document.php?id=22051
END:VEVENT
END:VCALENDAR