BEGIN:VCALENDAR
VERSION:2.0
PRODID:-//Plone.org//NONSGML plone.app.event//EN
X-WR-TIMEZONE:Europe/Madrid
BEGIN:VEVENT
SUMMARY:Curs de català: Projecte digiparticipa i comparteix
DTSTART;TZID=Europe/Madrid;VALUE=DATE-TIME:20101004T093000
DTEND;TZID=Europe/Madrid;VALUE=DATE-TIME:20101004T103000
DTSTAMP;VALUE=DATE-TIME:20260421T205803Z
UID:81b92bedb507add36dea600fa1805df1
CREATED;VALUE=DATE-TIME:20101004T000000Z
CATEGORIES:Cursos
LOCATION:Edifici Xifré - Can Nadal s/n
ORGANIZER:Regidoria d'Igualtat
COMMENT:Durada: Fins al 20 de desembre de 2010
DESCRIPTION:Curs de català per a famílies nouvingudes
URL:https://arenysdemar.cat/document.php?id=22091
END:VEVENT
END:VCALENDAR