BEGIN:VCALENDAR
VERSION:2.0
PRODID:-//Plone.org//NONSGML plone.app.event//EN
X-WR-TIMEZONE:Europe/Madrid
BEGIN:VEVENT
SUMMARY:Tirada de l´artó a la platja de la Picòrdia
DTSTART;TZID=Europe/Madrid;VALUE=DATE-TIME:20101010T090000
DTEND;TZID=Europe/Madrid;VALUE=DATE-TIME:20101010T100000
DTSTAMP;VALUE=DATE-TIME:20260422T015115Z
UID:24a5c8418ec56729315fc9f350f803c7
CREATED;VALUE=DATE-TIME:20101010T000000Z
CATEGORIES:Mostra
LOCATION:Platja de la Picòrdia
ORGANIZER:Promoció Local i Associacions d'empresaris d'hosteleria Arenys de Mar
DESCRIPTION:Activitat cancel·lada per la previsió meteorològica
URL:https://arenysdemar.cat/document.php?id=22134
END:VEVENT
END:VCALENDAR