BEGIN:VCALENDAR
VERSION:2.0
PRODID:-//Plone.org//NONSGML plone.app.event//EN
X-WR-TIMEZONE:Europe/Madrid
BEGIN:VEVENT
SUMMARY:Hora del conte: El mag Tomàs presenta els seus titelles
DTSTART;TZID=Europe/Madrid;VALUE=DATE-TIME:20101111T180000
DTEND;TZID=Europe/Madrid;VALUE=DATE-TIME:20101111T190000
DTSTAMP;VALUE=DATE-TIME:20260421T154612Z
UID:3309ad02623090dc70fd6a41408fd3bb
CREATED;VALUE=DATE-TIME:20101111T000000Z
CATEGORIES:Infantils
LOCATION:Sala d'actes de la Biblioteca - C. Bonaire, 2
ORGANIZER:Biblioteca - Regidoria de Cultura
DESCRIPTION:a càrrec del titella Mag Tomàs
URL:https://arenysdemar.cat/document.php?id=22171
END:VEVENT
END:VCALENDAR