BEGIN:VCALENDAR
VERSION:2.0
PRODID:-//Plone.org//NONSGML plone.app.event//EN
X-WR-TIMEZONE:Europe/Madrid
BEGIN:VEVENT
SUMMARY:Exposició fotogràfica: Tema lliure
DTSTART;TZID=Europe/Madrid;VALUE=DATE-TIME:20110602T000000
DTEND;TZID=Europe/Madrid;VALUE=DATE-TIME:20110602T010000
DTSTAMP;VALUE=DATE-TIME:20260423T152551Z
UID:224bef7dbb899820a46d0a5eda9dc932
CREATED;VALUE=DATE-TIME:20110602T000000Z
CATEGORIES:Exposició
LOCATION:Sala de les Bótes del C.C.Calisay
ORGANIZER:AFA
COMMENT:Durada: fins al 12 de juny de 2011
DESCRIPTION:VIII Lliga Social de Fotografia
URL:https://arenysdemar.cat/document.php?id=22175
END:VEVENT
END:VCALENDAR