BEGIN:VCALENDAR
VERSION:2.0
PRODID:-//Plone.org//NONSGML plone.app.event//EN
X-WR-TIMEZONE:Europe/Madrid
BEGIN:VEVENT
SUMMARY:Exposició de fotografia : Retorn a l'infinit
DTSTART;TZID=Europe/Madrid;VALUE=DATE-TIME:20101203T000000
DTEND;TZID=Europe/Madrid;VALUE=DATE-TIME:20101203T010000
DTSTAMP;VALUE=DATE-TIME:20260423T214816Z
UID:c2f557d47439d3c54b5b316a97072612
CREATED;VALUE=DATE-TIME:20101203T000000Z
CATEGORIES:Exposició
LOCATION:Sala exposicions Lloveras - C. Sant Antoni, s/n
ORGANIZER:Regidoria de Cultura
COMMENT:Durada: Fins al 2 de gener de 2011
DESCRIPTION:a càrrec de Ferran Solà Bonshoms
URL:https://arenysdemar.cat/document.php?id=22235
END:VEVENT
END:VCALENDAR