BEGIN:VCALENDAR
VERSION:2.0
PRODID:-//Plone.org//NONSGML plone.app.event//EN
X-WR-TIMEZONE:Europe/Madrid
BEGIN:VEVENT
SUMMARY:Teatre: Laura a la ciutat dels sants
DTSTART;TZID=Europe/Madrid;VALUE=DATE-TIME:20110129T210000
DTEND;TZID=Europe/Madrid;VALUE=DATE-TIME:20110129T220000
DTSTAMP;VALUE=DATE-TIME:20260420T224516Z
UID:772aa2313fcf8dc762e4857dad480836
CREATED;VALUE=DATE-TIME:20110129T000000Z
CATEGORIES:Teatre
LOCATION:Teatre Principal - C. Església, 45-47
ORGANIZER:SC L'Esperança i Regidoria de Cultura
COMMENT:Preu: 10 &euro;
DESCRIPTION:a càrrec de Fènix Teatre
URL:https://arenysdemar.cat/document.php?id=22246
END:VEVENT
END:VCALENDAR