BEGIN:VCALENDAR
VERSION:2.0
PRODID:-//Plone.org//NONSGML plone.app.event//EN
X-WR-TIMEZONE:Europe/Madrid
BEGIN:VEVENT
SUMMARY:Ja en tinc 30!!! de Jordi Silva
DTSTART;TZID=Europe/Madrid;VALUE=DATE-TIME:20110213T181500
DTEND;TZID=Europe/Madrid;VALUE=DATE-TIME:20110213T191500
DTSTAMP;VALUE=DATE-TIME:20260425T012151Z
UID:19c416c50f9b3a4a31cbda1f266ccd33
CREATED;VALUE=DATE-TIME:20110213T000000Z
CATEGORIES:Teatre
LOCATION:Teatre dels Seràfics
ORGANIZER:Grup Artístic Carles Xena i Regidoria de Cultura
COMMENT:Preu: 6 &euro; no socis 5&euro; socis 1&euro; estudiants
DESCRIPTION:a càrrec del grup Sogtulakk de Granollers
URL:https://arenysdemar.cat/document.php?id=22329
END:VEVENT
END:VCALENDAR