BEGIN:VCALENDAR
VERSION:2.0
PRODID:-//Plone.org//NONSGML plone.app.event//EN
X-WR-TIMEZONE:Europe/Madrid
BEGIN:VEVENT
SUMMARY:La Senyoreta Júlia de August Strindberg
DTSTART;TZID=Europe/Madrid;VALUE=DATE-TIME:20110227T181500
DTEND;TZID=Europe/Madrid;VALUE=DATE-TIME:20110227T191500
DTSTAMP;VALUE=DATE-TIME:20260424T183827Z
UID:4b891de7fe340501dd0d0ebe409610bd
CREATED;VALUE=DATE-TIME:20110227T000000Z
CATEGORIES:Teatre
LOCATION:Teatre dels Seràfics
ORGANIZER:Grup Artístic Carles Xena i Regidoria de Cultura
COMMENT:Preu: 6 &euro; no socis 5&euro; socis 1&euro; estudiants
DESCRIPTION:a càrrec del grup Enric Borràs de Sant Feliu de Llobregat
URL:https://arenysdemar.cat/document.php?id=22330
END:VEVENT
END:VCALENDAR