BEGIN:VCALENDAR
VERSION:2.0
PRODID:-//Plone.org//NONSGML plone.app.event//EN
X-WR-TIMEZONE:Europe/Madrid
BEGIN:VEVENT
SUMMARY:Dansa: Deixa'm olorar
DTSTART;TZID=Europe/Madrid;VALUE=DATE-TIME:20110320T190000
DTEND;TZID=Europe/Madrid;VALUE=DATE-TIME:20110320T200000
DTSTAMP;VALUE=DATE-TIME:20260422T130101Z
UID:768046f1c2657c75544e7c7d7ee9d45e
CREATED;VALUE=DATE-TIME:20110320T000000Z
CATEGORIES:Dansa
LOCATION:Teatre Principal - C. Església, 45-47
ORGANIZER:SC L'Esperança i Regidoria de Cultura
COMMENT:Preu: 7 &euro;
DESCRIPTION:a càrrec de 6è Sentit
URL:https://arenysdemar.cat/document.php?id=22402
END:VEVENT
END:VCALENDAR