BEGIN:VCALENDAR
VERSION:2.0
PRODID:-//Plone.org//NONSGML plone.app.event//EN
X-WR-TIMEZONE:Europe/Madrid
BEGIN:VEVENT
SUMMARY:Conferència d'història: Les dones i la construcció d'Europa
DTSTART;TZID=Europe/Madrid;VALUE=DATE-TIME:20110222T180000
DTEND;TZID=Europe/Madrid;VALUE=DATE-TIME:20110222T190000
DTSTAMP;VALUE=DATE-TIME:20260425T012221Z
UID:f11105c07bdff024a6227d3cca1d9f2f
CREATED;VALUE=DATE-TIME:20110222T000000Z
CATEGORIES:Conferència
LOCATION:Auditori J.M. Arnau del C.C.Calisay - Riera del Pare Fita, 31
ORGANIZER:Aula d'Extensió Universitària
DESCRIPTION:a càrrec de José Enrique Ruiz-Domènec de la Universitat Autònoma de Barcelona
URL:https://arenysdemar.cat/document.php?id=22408
END:VEVENT
END:VCALENDAR