BEGIN:VCALENDAR
VERSION:2.0
PRODID:-//Plone.org//NONSGML plone.app.event//EN
X-WR-TIMEZONE:Europe/Madrid
BEGIN:VEVENT
SUMMARY:Conferència de tecnologia: Evolució tecnològica i avenç social
DTSTART;TZID=Europe/Madrid;VALUE=DATE-TIME:20110208T180000
DTEND;TZID=Europe/Madrid;VALUE=DATE-TIME:20110208T190000
DTSTAMP;VALUE=DATE-TIME:20260425T032434Z
UID:7d4533c95012e499dc5be8c8797535b7
CREATED;VALUE=DATE-TIME:20110208T000000Z
CATEGORIES:Conferència
LOCATION:Auditori J.M. Arnau del C.C.Calisay - Riera del Pare Fita, 31
ORGANIZER:Aula d'Extensió Universitària
DESCRIPTION:a càrrec de Josep Amat de la Universitat Politècnica de Catalunya
URL:https://arenysdemar.cat/document.php?id=22410
END:VEVENT
END:VCALENDAR