BEGIN:VCALENDAR
VERSION:2.0
PRODID:-//Plone.org//NONSGML plone.app.event//EN
X-WR-TIMEZONE:Europe/Madrid
BEGIN:VEVENT
SUMMARY:Hora del conte
DTSTART;TZID=Europe/Madrid;VALUE=DATE-TIME:20110224T180000
DTEND;TZID=Europe/Madrid;VALUE=DATE-TIME:20110224T190000
DTSTAMP;VALUE=DATE-TIME:20260424T165637Z
UID:fe110e22428d1786fc71d9b4277a2531
CREATED;VALUE=DATE-TIME:20110224T000000Z
CATEGORIES:Infantils
LOCATION:Sala d'actes de la Biblioteca - C. Bonaire, 2
ORGANIZER:Biblioteca - Regidoria de Cultura
DESCRIPTION:a càrrec de Cristina Sànchez
URL:https://arenysdemar.cat/document.php?id=22413
END:VEVENT
END:VCALENDAR