BEGIN:VCALENDAR
VERSION:2.0
PRODID:-//Plone.org//NONSGML plone.app.event//EN
X-WR-TIMEZONE:Europe/Madrid
BEGIN:VEVENT
SUMMARY:Concert: Voldria tindre el talent!
DTSTART;TZID=Europe/Madrid;VALUE=DATE-TIME:20110605T190000
DTEND;TZID=Europe/Madrid;VALUE=DATE-TIME:20110605T200000
DTSTAMP;VALUE=DATE-TIME:20260422T010615Z
UID:05e17a8b6eba049fe03e22fac83c4c01
CREATED;VALUE=DATE-TIME:20110605T000000Z
CATEGORIES:Música
LOCATION:Teatre Principal - C. Església, 45-47
ORGANIZER:SC L'Esperança i Regidoria de Cultura
COMMENT:Preu: 7 &euro;
DESCRIPTION:a càrrec de Quico el Cèlio, el Noi i el Mut de Ferreries
URL:https://arenysdemar.cat/document.php?id=22418
END:VEVENT
END:VCALENDAR