BEGIN:VCALENDAR
VERSION:2.0
PRODID:-//Plone.org//NONSGML plone.app.event//EN
X-WR-TIMEZONE:Europe/Madrid
BEGIN:VEVENT
SUMMARY:L'impossibilista
DTSTART;TZID=Europe/Madrid;VALUE=DATE-TIME:20110515T180000
DTEND;TZID=Europe/Madrid;VALUE=DATE-TIME:20110515T190000
DTSTAMP;VALUE=DATE-TIME:20260424T233321Z
UID:abeb8a9c89e8178706f29a8019067004
CREATED;VALUE=DATE-TIME:20110515T000000Z
CATEGORIES:Infantils,Teatre
LOCATION:Teatre Principal - C. Església, 45-47
ORGANIZER:SC L'Esperança i Regidoria de Cultura
COMMENT:Preu: 5 &euro;
DESCRIPTION:a càrrec de Sergi Buka
URL:https://arenysdemar.cat/document.php?id=22420
END:VEVENT
END:VCALENDAR