BEGIN:VCALENDAR
VERSION:2.0
PRODID:-//Plone.org//NONSGML plone.app.event//EN
X-WR-TIMEZONE:Europe/Madrid
BEGIN:VEVENT
SUMMARY:Cinera
DTSTART;TZID=Europe/Madrid;VALUE=DATE-TIME:20110514T200000
DTEND;TZID=Europe/Madrid;VALUE=DATE-TIME:20110514T210000
DTSTAMP;VALUE=DATE-TIME:20260420T224256Z
UID:421b38bd73c6323a1813593c9bf1dc0b
CREATED;VALUE=DATE-TIME:20110514T000000Z
CATEGORIES:Cinema
LOCATION:Teatre Principal - C. Església, 45-47
ORGANIZER:SC L'Esperança i Regidoria de Cultura
COMMENT:Preu: 5 &euro;
DESCRIPTION:Mostra de Cinema Documental (I)
URL:https://arenysdemar.cat/document.php?id=22421
END:VEVENT
END:VCALENDAR