BEGIN:VCALENDAR
VERSION:2.0
PRODID:-//Plone.org//NONSGML plone.app.event//EN
X-WR-TIMEZONE:Europe/Madrid
BEGIN:VEVENT
SUMMARY:Teatre infantil: Els 4 Elements
DTSTART;TZID=Europe/Madrid;VALUE=DATE-TIME:20110227T180000
DTEND;TZID=Europe/Madrid;VALUE=DATE-TIME:20110227T190000
DTSTAMP;VALUE=DATE-TIME:20260425T142128Z
UID:5435f2e246a50e19c24550598269c4d2
CREATED;VALUE=DATE-TIME:20110227T000000Z
CATEGORIES:Infantils,Teatre
LOCATION:Teatre Principal - C. Església, 45-47
ORGANIZER:SC L'Esperança i Regidoria de Cultura
COMMENT:Preu: 5 &euro;
DESCRIPTION:a càrrec de Balí Balà Cia.
URL:https://arenysdemar.cat/document.php?id=22429
END:VEVENT
END:VCALENDAR