BEGIN:VCALENDAR
VERSION:2.0
PRODID:-//Plone.org//NONSGML plone.app.event//EN
X-WR-TIMEZONE:Europe/Madrid
BEGIN:VEVENT
SUMMARY:Teatre Infantil: La maleta de l'Agustí
DTSTART;TZID=Europe/Madrid;VALUE=DATE-TIME:20110213T180000
DTEND;TZID=Europe/Madrid;VALUE=DATE-TIME:20110213T190000
DTSTAMP;VALUE=DATE-TIME:20260422T113538Z
UID:2db78887f577526637b1a9a8d7a62149
CREATED;VALUE=DATE-TIME:20110213T000000Z
CATEGORIES:Infantils,Teatre
LOCATION:Teatre Principal - C. Església, 45-47
ORGANIZER:SC L'Esperança i Regidoria de Cultura
COMMENT:Preu: 5 &euro;
DESCRIPTION:a càrrec de Farrés Brothers i Cia.
URL:https://arenysdemar.cat/document.php?id=22431
END:VEVENT
END:VCALENDAR