BEGIN:VCALENDAR
VERSION:2.0
PRODID:-//Plone.org//NONSGML plone.app.event//EN
X-WR-TIMEZONE:Europe/Madrid
BEGIN:VEVENT
SUMMARY:AinnovArte
DTSTART;TZID=Europe/Madrid;VALUE=DATE-TIME:20110204T000000
DTEND;TZID=Europe/Madrid;VALUE=DATE-TIME:20110204T010000
DTSTAMP;VALUE=DATE-TIME:20260424T215750Z
UID:5c2a709cfa56118cda8e49d634564cf7
CREATED;VALUE=DATE-TIME:20110204T000000Z
CATEGORIES:Exposició
LOCATION:Sala exposicions Lloveras - C. Sant Antoni, s/n
ORGANIZER:Regidoria de Cultura
COMMENT:Durada: fins al 27 de febrer de 2011
DESCRIPTION:a càrrec d'Agustín Herrera
URL:https://arenysdemar.cat/document.php?id=22438
END:VEVENT
END:VCALENDAR