BEGIN:VCALENDAR
VERSION:2.0
PRODID:-//Plone.org//NONSGML plone.app.event//EN
X-WR-TIMEZONE:Europe/Madrid
BEGIN:VEVENT
SUMMARY:6a Jornada d'Atletisme a la Platja
DTSTART;TZID=Europe/Madrid;VALUE=DATE-TIME:20110327T110000
DTEND;TZID=Europe/Madrid;VALUE=DATE-TIME:20110327T120000
DTSTAMP;VALUE=DATE-TIME:20260420T074543Z
UID:170bd14f190ca3b533cba61df1ac490c
CREATED;VALUE=DATE-TIME:20110327T000000Z
CATEGORIES:Esports
LOCATION:Platja Picòrdia (1ª platja)
ORGANIZER:Regidoria d'esports i Penya Apa Anem-hi
URL:https://arenysdemar.cat/document.php?id=22454
END:VEVENT
END:VCALENDAR