BEGIN:VCALENDAR
VERSION:2.0
PRODID:-//Plone.org//NONSGML plone.app.event//EN
X-WR-TIMEZONE:Europe/Madrid
BEGIN:VEVENT
SUMMARY:Rua d'escoles bressol
DTSTART;TZID=Europe/Madrid;VALUE=DATE-TIME:20110303T153000
DTEND;TZID=Europe/Madrid;VALUE=DATE-TIME:20110303T163000
DTSTAMP;VALUE=DATE-TIME:20260424T133415Z
UID:47127bce17877f7ab57ad0a250cd99aa
CREATED;VALUE=DATE-TIME:20110303T000000Z
CATEGORIES:Festa
LOCATION:Carrers de la Vila
ORGANIZER:Escoles Bressol i Regidoria de Cultura
URL:https://arenysdemar.cat/document.php?id=22486
END:VEVENT
END:VCALENDAR